Workbook

Sheet Skupni stroški na projektu
B8: VODILNI PARTNER/PARTNER (NAZIV) | C8: VRSTA STROŠKA | D8: TIP DELA | E8: ŠT. OPRAVLJENIH UR NA PROJEKTU | F8: URNA POSTAVKA (EUR) | G8: SKUPNI UPRAVIČENI STROŠKI (EUR) | H8: ZNESEK SOFINANCIRANJA oz. POGODBENA VREDNOST (EUR) | I8: ODSTOTEK SOFINANCIRANJA oz. POGODBENA STOPNJA
C9: IZBERI | D9: IZBERI | F9: =VLOOKUP(D9,SE!$A$1:$B$8,2,FALSE) -> - | G9: =IF(E9="","",E9*F9) | H9: =IF(E9="","",G9*I9/100) | I9: =IF(E9="","",80)
C10: IZBERI | D10: IZBERI | F10: =VLOOKUP(D10,SE!$A$1:$B$8,2,FALSE) -> - | G10: =IF(E10="","",E10*F10) | H10: =IF(E10="","",G10*I10/100) | I10: =IF(E10="","",80)
C11: IZBERI | D11: IZBERI | F11: =VLOOKUP(D11,SE!$A$1:$B$8,2,FALSE) -> - | G11: =IF(E11="","",E11*F11) | H11: =IF(E11="","",G11*I11/100) | I11: =IF(E11="","",80)
C12: IZBERI | D12: IZBERI | F12: =VLOOKUP(D12,SE!$A$1:$B$8,2,FALSE) -> - | G12: =IF(E12="","",E12*F12) | H12: =IF(E12="","",G12*I12/100) | I12: =IF(E12="","",80)
C13: IZBERI | D13: IZBERI | F13: =VLOOKUP(D13,SE!$A$1:$B$8,2,FALSE) -> - | G13: =IF(E13="","",E13*F13) | H13: =IF(E13="","",G13*I13/100) | I13: =IF(E13="","",80)
C14: IZBERI | D14: IZBERI | F14: =VLOOKUP(D14,SE!$A$1:$B$8,2,FALSE) -> - | G14: =IF(E14="","",E14*F14) | H14: =IF(E14="","",G14*I14/100) | I14: =IF(E14="","",80)
C15: IZBERI | D15: IZBERI | F15: =VLOOKUP(D15,SE!$A$1:$B$8,2,FALSE) -> - | G15: =IF(E15="","",E15*F15) | H15: =IF(E15="","",G15*I15/100) | I15: =IF(E15="","",80)
C16: IZBERI | D16: IZBERI | F16: =VLOOKUP(D16,SE!$A$1:$B$8,2,FALSE) -> - | G16: =IF(E16="","",E16*F16) | H16: =IF(E16="","",G16*I16/100) | I16: =IF(E16="","",80)
C17: IZBERI | D17: IZBERI | F17: =VLOOKUP(D17,SE!$A$1:$B$8,2,FALSE) -> - | G17: =IF(E17="","",E17*F17) | H17: =IF(E17="","",G17*I17/100) | I17: =IF(E17="","",80)
C18: IZBERI | D18: IZBERI | F18: =VLOOKUP(D18,SE!$A$1:$B$8,2,FALSE) -> - | G18: =IF(E18="","",E18*F18) | H18: =IF(E18="","",G18*I18/100) | I18: =IF(E18="","",80)
C19: IZBERI | D19: IZBERI | F19: =VLOOKUP(D19,SE!$A$1:$B$8,2,FALSE) -> - | G19: =IF(E19="","",E19*F19) | H19: =IF(E19="","",G19*I19/100) | I19: =IF(E19="","",80)
C20: IZBERI | D20: IZBERI | F20: =VLOOKUP(D20,SE!$A$1:$B$8,2,FALSE) -> - | G20: =IF(E20="","",E20*F20) | H20: =IF(E20="","",G20*I20/100) | I20: =IF(E20="","",80)
... C28: IZBERI | D28: IZBERI | F28: =VLOOKUP(D28,SE!$A$1:$B$8,2,FALSE) -> - | G28: =IF(E28="","",E28*F28) | H28: =IF(E28="","",G28*I28/100) | I28: =IF(E28="","",80)
C29: PRS - PREOSTALI STROŠKI, KI NISO STROŠKI OSEBJA (40 %) | D29: Preostale projektne aktivnosti | G29: =SUM(G9:G28)*0.4 -> 0 | H29: =G29*0.8 -> 0 | I29: 80
F30: SKUPAJ | G30: =SUM(G9:G29) -> 0 | H30: =SUM(H9:H29) -> 0

Sheet Partner 1
B10: VODILNI PARTNER/PARTNER (NAZIV) | C10: VRSTA STROŠKA | D10: TIP DELA | E10: ŠT. OPRAVLJENIH UR NA PROJEKTU | F10: URNA POSTAVKA (EUR) | G10: SKUPNI UPRAVIČENI STROŠKI (EUR) | H10: ZNESEK SOFINANCIRANJA oz. POGODBENA VREDNOST (EUR) | I10: ODSTOTEK SOFINANCIRANJA oz. POGODBENA STOPNJA
C11: IZBERI | D11: IZBERI | F11: =VLOOKUP(D11,SE!$A$1:$B$8,2,FALSE) -> - | G11: =IF(E11="","",E11*F11) | H11: =IF(E11="","",G11*I11/100) | I11: =IF(E11="","",80)
C12: IZBERI | D12: IZBERI | F12: =VLOOKUP(D12,SE!$A$1:$B$8,2,FALSE) -> - | G12: =IF(E12="","",E12*F12) | H12: =IF(E12="","",G12*I12/100) | I12: =IF(E12="","",80)
C13: IZBERI | D13: IZBERI | F13: =VLOOKUP(D13,SE!$A$1:$B$8,2,FALSE) -> - | G13: =IF(E13="","",E13*F13) | H13: =IF(E13="","",G13*I13/100) | I13: =IF(E13="","",80)
C14: IZBERI | D14: IZBERI | F14: =VLOOKUP(D14,SE!$A$1:$B$8,2,FALSE) -> - | G14: =IF(E14="","",E14*F14) | H14: =IF(E14="","",G14*I14/100) | I14: =IF(E14="","",80)
C15: IZBERI | D15: IZBERI | F15: =VLOOKUP(D15,SE!$A$1:$B$8,2,FALSE) -> - | G15: =IF(E15="","",E15*F15) | H15: =IF(E15="","",G15*I15/100) | I15: =IF(E15="","",80)
C16: IZBERI | D16: IZBERI | F16: =VLOOKUP(D16,SE!$A$1:$B$8,2,FALSE) -> - | G16: =IF(E16="","",E16*F16) | H16: =IF(E16="","",G16*I16/100) | I16: =IF(E16="","",80)
C17: IZBERI | D17: IZBERI | F17: =VLOOKUP(D17,SE!$A$1:$B$8,2,FALSE) -> - | G17: =IF(E17="","",E17*F17) | H17: =IF(E17="","",G17*I17/100) | I17: =IF(E17="","",80)
C18: IZBERI | D18: IZBERI | F18: =VLOOKUP(D18,SE!$A$1:$B$8,2,FALSE) -> - | G18: =IF(E18="","",E18*F18) | H18: =IF(E18="","",G18*I18/100) | I18: =IF(E18="","",80)
C19: IZBERI | D19: IZBERI | F19: =VLOOKUP(D19,SE!$A$1:$B$8,2,FALSE) -> - | G19: =IF(E19="","",E19*F19) | H19: =IF(E19="","",G19*I19/100) | I19: =IF(E19="","",80)
C20: IZBERI | D20: IZBERI | F20: =VLOOKUP(D20,SE!$A$1:$B$8,2,FALSE) -> - | G20: =IF(E20="","",E20*F20) | H20: =IF(E20="","",G20*I20/100) | I20: =IF(E20="","",80)
C21: IZBERI | D21: IZBERI | F21: =VLOOKUP(D21,SE!$A$1:$B$8,2,FALSE) -> - | G21: =IF(E21="","",E21*F21) | H21: =IF(E21="","",G21*I21/100) | I21: =IF(E21="","",80)
C22: IZBERI | D22: IZBERI | F22: =VLOOKUP(D22,SE!$A$1:$B$8,2,FALSE) -> - | G22: =IF(E22="","",E22*F22) | H22: =IF(E22="","",G22*I22/100) | I22: =IF(E22="","",80)
... C30: IZBERI | D30: IZBERI | F30: =VLOOKUP(D30,SE!$A$1:$B$8,2,FALSE) -> - | G30: =IF(E30="","",E30*F30) | H30: =IF(E30="","",G30*I30/100) | I30: =IF(E30="","",80)
C31: PRS - PREOSTALI STROŠKI, KI NISO STROŠKI OSEBJA (40 %) | D31: Preostale projektne aktivnosti | G31: =SUM(G11:G30)*0.4 -> 0 | H31: =G31*0.8 -> 0 | I31: 80
F32: SKUPAJ | G32: =SUM(G11:G31) -> 0 | H32: =SUM(H11:H31) -> 0

Sheet Partner 2
B12: VODILNI PARTNER/PARTNER (NAZIV) | C12: VRSTA STROŠKA | D12: TIP DELA | E12: ŠT. OPRAVLJENIH UR NA PROJEKTU | F12: URNA POSTAVKA (EUR) | G12: SKUPNI UPRAVIČENI STROŠKI (EUR) | H12: ZNESEK SOFINANCIRANJA oz. POGODBENA VREDNOST (EUR) | I12: ODSTOTEK SOFINANCIRANJA oz. POGODBENA STOPNJA
C13: IZBERI | D13: IZBERI | F13: =VLOOKUP(D13,SE!$A$1:$B$8,2,FALSE) -> - | G13: =IF(E13="","",E13*F13) | H13: =IF(E13="","",G13*I13/100) | I13: =IF(E13="","",80)
C14: IZBERI | D14: IZBERI | F14: =VLOOKUP(D14,SE!$A$1:$B$8,2,FALSE) -> - | G14: =IF(E14="","",E14*F14) | H14: =IF(E14="","",G14*I14/100) | I14: =IF(E14="","",80)
C15: IZBERI | D15: IZBERI | F15: =VLOOKUP(D15,SE!$A$1:$B$8,2,FALSE) -> - | G15: =IF(E15="","",E15*F15) | H15: =IF(E15="","",G15*I15/100) | I15: =IF(E15="","",80)
C16: IZBERI | D16: IZBERI | F16: =VLOOKUP(D16,SE!$A$1:$B$8,2,FALSE) -> - | G16: =IF(E16="","",E16*F16) | H16: =IF(E16="","",G16*I16/100) | I16: =IF(E16="","",80)
C17: IZBERI | D17: IZBERI | F17: =VLOOKUP(D17,SE!$A$1:$B$8,2,FALSE) -> - | G17: =IF(E17="","",E17*F17) | H17: =IF(E17="","",G17*I17/100) | I17: =IF(E17="","",80)
C18: IZBERI | D18: IZBERI | F18: =VLOOKUP(D18,SE!$A$1:$B$8,2,FALSE) -> - | G18: =IF(E18="","",E18*F18) | H18: =IF(E18="","",G18*I18/100) | I18: =IF(E18="","",80)
C19: IZBERI | D19: IZBERI | F19: =VLOOKUP(D19,SE!$A$1:$B$8,2,FALSE) -> - | G19: =IF(E19="","",E19*F19) | H19: =IF(E19="","",G19*I19/100) | I19: =IF(E19="","",80)
C20: IZBERI | D20: IZBERI | F20: =VLOOKUP(D20,SE!$A$1:$B$8,2,FALSE) -> - | G20: =IF(E20="","",E20*F20) | H20: =IF(E20="","",G20*I20/100) | I20: =IF(E20="","",80)
C21: IZBERI | D21: IZBERI | F21: =VLOOKUP(D21,SE!$A$1:$B$8,2,FALSE) -> - | G21: =IF(E21="","",E21*F21) | H21: =IF(E21="","",G21*I21/100) | I21: =IF(E21="","",80)
C22: IZBERI | D22: IZBERI | F22: =VLOOKUP(D22,SE!$A$1:$B$8,2,FALSE) -> - | G22: =IF(E22="","",E22*F22) | H22: =IF(E22="","",G22*I22/100) | I22: =IF(E22="","",80)
C23: IZBERI | D23: IZBERI | F23: =VLOOKUP(D23,SE!$A$1:$B$8,2,FALSE) -> - | G23: =IF(E23="","",E23*F23) | H23: =IF(E23="","",G23*I23/100) | I23: =IF(E23="","",80)
C24: IZBERI | D24: IZBERI | F24: =VLOOKUP(D24,SE!$A$1:$B$8,2,FALSE) -> - | G24: =IF(E24="","",E24*F24) | H24: =IF(E24="","",G24*I24/100) | I24: =IF(E24="","",80)
... C32: IZBERI | D32: IZBERI | F32: =VLOOKUP(D32,SE!$A$1:$B$8,2,FALSE) -> - | G32: =IF(E32="","",E32*F32) | H32: =IF(E32="","",G32*I32/100) | I32: =IF(E32="","",80)
C33: PRS - PREOSTALI STROŠKI, KI NISO STROŠKI OSEBJA (40 %) | D33: Preostale projektne aktivnosti | G33: =SUM(G13:G32)*0.4 -> 0 | H33: =G33*0.8 -> 0 | I33: 80
F34: SKUPAJ | G34: =SUM(G13:G33) -> 0 | H34: =SUM(H13:H33) -> 0

Sheet Partner 3
B8: VODILNI PARTNER/PARTNER (NAZIV) | C8: VRSTA STROŠKA | D8: TIP DELA | E8: ŠT. OPRAVLJENIH UR NA PROJEKTU | F8: URNA POSTAVKA (EUR) | G8: SKUPNI UPRAVIČENI STROŠKI (EUR) | H8: ZNESEK SOFINANCIRANJA oz. POGODBENA VREDNOST (EUR) | I8: ODSTOTEK SOFINANCIRANJA oz. POGODBENA STOPNJA
C9: IZBERI | D9: IZBERI | F9: =VLOOKUP(D9,SE!$A$1:$B$8,2,FALSE) -> - | G9: =IF(E9="","",E9*F9) | H9: =IF(E9="","",G9*I9/100) | I9: =IF(E9="","",80)
C10: IZBERI | D10: IZBERI | F10: =VLOOKUP(D10,SE!$A$1:$B$8,2,FALSE) -> - | G10: =IF(E10="","",E10*F10) | H10: =IF(E10="","",G10*I10/100) | I10: =IF(E10="","",80)
C11: IZBERI | D11: IZBERI | F11: =VLOOKUP(D11,SE!$A$1:$B$8,2,FALSE) -> - | G11: =IF(E11="","",E11*F11) | H11: =IF(E11="","",G11*I11/100) | I11: =IF(E11="","",80)
C12: IZBERI | D12: IZBERI | F12: =VLOOKUP(D12,SE!$A$1:$B$8,2,FALSE) -> - | G12: =IF(E12="","",E12*F12) | H12: =IF(E12="","",G12*I12/100) | I12: =IF(E12="","",80)
C13: IZBERI | D13: IZBERI | F13: =VLOOKUP(D13,SE!$A$1:$B$8,2,FALSE) -> - | G13: =IF(E13="","",E13*F13) | H13: =IF(E13="","",G13*I13/100) | I13: =IF(E13="","",80)
C14: IZBERI | D14: IZBERI | F14: =VLOOKUP(D14,SE!$A$1:$B$8,2,FALSE) -> - | G14: =IF(E14="","",E14*F14) | H14: =IF(E14="","",G14*I14/100) | I14: =IF(E14="","",80)
C15: IZBERI | D15: IZBERI | F15: =VLOOKUP(D15,SE!$A$1:$B$8,2,FALSE) -> - | G15: =IF(E15="","",E15*F15) | H15: =IF(E15="","",G15*I15/100) | I15: =IF(E15="","",80)
C16: IZBERI | D16: IZBERI | F16: =VLOOKUP(D16,SE!$A$1:$B$8,2,FALSE) -> - | G16: =IF(E16="","",E16*F16) | H16: =IF(E16="","",G16*I16/100) | I16: =IF(E16="","",80)
C17: IZBERI | D17: IZBERI | F17: =VLOOKUP(D17,SE!$A$1:$B$8,2,FALSE) -> - | G17: =IF(E17="","",E17*F17) | H17: =IF(E17="","",G17*I17/100) | I17: =IF(E17="","",80)
C18: IZBERI | D18: IZBERI | F18: =VLOOKUP(D18,SE!$A$1:$B$8,2,FALSE) -> - | G18: =IF(E18="","",E18*F18) | H18: =IF(E18="","",G18*I18/100) | I18: =IF(E18="","",80)
C19: IZBERI | D19: IZBERI | F19: =VLOOKUP(D19,SE!$A$1:$B$8,2,FALSE) -> - | G19: =IF(E19="","",E19*F19) | H19: =IF(E19="","",G19*I19/100) | I19: =IF(E19="","",80)
C20: IZBERI | D20: IZBERI | F20: =VLOOKUP(D20,SE!$A$1:$B$8,2,FALSE) -> - | G20: =IF(E20="","",E20*F20) | H20: =IF(E20="","",G20*I20/100) | I20: =IF(E20="","",80)
... C28: IZBERI | D28: IZBERI | F28: =VLOOKUP(D28,SE!$A$1:$B$8,2,FALSE) -> - | G28: =IF(E28="","",E28*F28) | H28: =IF(E28="","",G28*I28/100) | I28: =IF(E28="","",80)
C29: PRS - PREOSTALI STROŠKI, KI NISO STROŠKI OSEBJA (40 %) | D29: Preostale projektne aktivnosti | G29: =SUM(G9:G28)*0.4 -> 0 | H29: =G29*0.8 -> 0 | I29: 80
F30: SKUPAJ | G30: =SUM(G9:G29) -> 0 | H30: =SUM(H9:H29) -> 0

Sheet SE
A1: IZBERI | B1: -
A2: Vodenje in koordinacija | B2: 23.33
A3: Strokovna in tehnična pomoč | B3: 17.89
A4: Izvajanje neindustrijske dejavnosti | B4: 13.24
A5: Izvajanje neindustrijske dejavnosti | B5: 13.24
A6: Prostovoljsko delo - vsebinsko | B6: 10
A7: Prostovoljsko delo - organizacisko | B7: 13
A8: Prostovoljsko delo - drugo | B8: 6
